BEGIN:VCALENDAR
VERSION:2.0
PRODID:-//School One - ECPv6.15.20//NONSGML v1.0//EN
CALSCALE:GREGORIAN
METHOD:PUBLISH
X-WR-CALNAME:School One
X-ORIGINAL-URL:https://school-one.org
X-WR-CALDESC:Events for School One
REFRESH-INTERVAL;VALUE=DURATION:PT1H
X-Robots-Tag:noindex
X-PUBLISHED-TTL:PT1H
BEGIN:VTIMEZONE
TZID:America/New_York
BEGIN:DAYLIGHT
TZOFFSETFROM:-0500
TZOFFSETTO:-0400
TZNAME:EDT
DTSTART:20210314T070000
END:DAYLIGHT
BEGIN:STANDARD
TZOFFSETFROM:-0400
TZOFFSETTO:-0500
TZNAME:EST
DTSTART:20211107T060000
END:STANDARD
BEGIN:DAYLIGHT
TZOFFSETFROM:-0500
TZOFFSETTO:-0400
TZNAME:EDT
DTSTART:20220313T070000
END:DAYLIGHT
BEGIN:STANDARD
TZOFFSETFROM:-0400
TZOFFSETTO:-0500
TZNAME:EST
DTSTART:20221106T060000
END:STANDARD
BEGIN:DAYLIGHT
TZOFFSETFROM:-0500
TZOFFSETTO:-0400
TZNAME:EDT
DTSTART:20230312T070000
END:DAYLIGHT
BEGIN:STANDARD
TZOFFSETFROM:-0400
TZOFFSETTO:-0500
TZNAME:EST
DTSTART:20231105T060000
END:STANDARD
END:VTIMEZONE
BEGIN:VEVENT
DTSTART;TZID=America/New_York:20220602T090000
DTEND;TZID=America/New_York:20220602T150000
DTSTAMP:20260424T051434
CREATED:20210519T174453Z
LAST-MODIFIED:20210519T174453Z
UID:3511-1654160400-1654182000@school-one.org
SUMMARY:Trimester 3 ends
DESCRIPTION:
URL:https://school-one.org/calendars/trimester-3-ends-2/
CATEGORIES:Enrolled Families,Public Events,Single Event
END:VEVENT
BEGIN:VEVENT
DTSTART;TZID=America/New_York:20220607T090000
DTEND;TZID=America/New_York:20220608T150000
DTSTAMP:20260424T051434
CREATED:20210519T174948Z
LAST-MODIFIED:20210519T174948Z
UID:3521-1654592400-1654700400@school-one.org
SUMMARY:Individual Evaluation Meetings With Advisors
DESCRIPTION:
URL:https://school-one.org/calendars/individual-evaluation-meetings-with-advisors-5/
CATEGORIES:Enrolled Families,Public Events,Single Event
END:VEVENT
BEGIN:VEVENT
DTSTART;TZID=America/New_York:20220609T113000
DTEND;TZID=America/New_York:20220609T123000
DTSTAMP:20260424T051434
CREATED:20210519T174649Z
LAST-MODIFIED:20210519T174649Z
UID:3515-1654774200-1654777800@school-one.org
SUMMARY:Senior Brunch
DESCRIPTION:
URL:https://school-one.org/calendars/senior-brunch-4/
CATEGORIES:Enrolled Families,Public Events,Single Event
END:VEVENT
BEGIN:VEVENT
DTSTART;TZID=America/New_York:20220610T180000
DTEND;TZID=America/New_York:20220610T200000
DTSTAMP:20260424T051434
CREATED:20210519T174542Z
LAST-MODIFIED:20210519T174542Z
UID:3513-1654884000-1654891200@school-one.org
SUMMARY:Graduation
DESCRIPTION:
URL:https://school-one.org/calendars/graduation-3/
CATEGORIES:Enrolled Families,Public Events,Single Event
END:VEVENT
END:VCALENDAR