BEGIN:VCALENDAR
VERSION:2.0
PRODID:-//School One - ECPv6.15.20//NONSGML v1.0//EN
CALSCALE:GREGORIAN
METHOD:PUBLISH
X-ORIGINAL-URL:https://school-one.org
X-WR-CALDESC:Events for School One
REFRESH-INTERVAL;VALUE=DURATION:PT1H
X-Robots-Tag:noindex
X-PUBLISHED-TTL:PT1H
BEGIN:VTIMEZONE
TZID:America/New_York
BEGIN:DAYLIGHT
TZOFFSETFROM:-0500
TZOFFSETTO:-0400
TZNAME:EDT
DTSTART:20230312T070000
END:DAYLIGHT
BEGIN:STANDARD
TZOFFSETFROM:-0400
TZOFFSETTO:-0500
TZNAME:EST
DTSTART:20231105T060000
END:STANDARD
BEGIN:DAYLIGHT
TZOFFSETFROM:-0500
TZOFFSETTO:-0400
TZNAME:EDT
DTSTART:20240310T070000
END:DAYLIGHT
BEGIN:STANDARD
TZOFFSETFROM:-0400
TZOFFSETTO:-0500
TZNAME:EST
DTSTART:20241103T060000
END:STANDARD
BEGIN:DAYLIGHT
TZOFFSETFROM:-0500
TZOFFSETTO:-0400
TZNAME:EDT
DTSTART:20250309T070000
END:DAYLIGHT
BEGIN:STANDARD
TZOFFSETFROM:-0400
TZOFFSETTO:-0500
TZNAME:EST
DTSTART:20251102T060000
END:STANDARD
END:VTIMEZONE
BEGIN:VEVENT
DTSTART;TZID=America/New_York:20240213T110000
DTEND;TZID=America/New_York:20240213T114500
DTSTAMP:20260424T143814
CREATED:20230725T193138Z
LAST-MODIFIED:20230725T193138Z
UID:4506-1707822000-1707824700@school-one.org
SUMMARY:Senior Meeting: GBRs
DESCRIPTION:
URL:https://school-one.org/calendars/senior-meeting-gbrs/
CATEGORIES:Enrolled Families
END:VEVENT
BEGIN:VEVENT
DTSTART;TZID=America/New_York:20240216T133000
DTEND;TZID=America/New_York:20240216T150000
DTSTAMP:20260424T143814
CREATED:20230718T180513Z
LAST-MODIFIED:20230718T180513Z
UID:4483-1708090200-1708095600@school-one.org
SUMMARY:9th Math Comp
DESCRIPTION:
URL:https://school-one.org/calendars/9th-math-comp/
CATEGORIES:Enrolled Families
END:VEVENT
BEGIN:VEVENT
DTSTART;VALUE=DATE:20240219
DTEND;VALUE=DATE:20240220
DTSTAMP:20260424T143814
CREATED:20230705T180339Z
LAST-MODIFIED:20230705T180339Z
UID:4452-1708300800-1708387199@school-one.org
SUMMARY:Presidents’ Day – No School
DESCRIPTION:
URL:https://school-one.org/calendars/presidents-day-no-school-5/
CATEGORIES:Enrolled Families,Prospective Families,Public Events
END:VEVENT
BEGIN:VEVENT
DTSTART;TZID=America/New_York:20240220T084500
DTEND;TZID=America/New_York:20240220T150000
DTSTAMP:20260424T143814
CREATED:20240201T211713Z
LAST-MODIFIED:20240201T211713Z
UID:4651-1708418700-1708441200@school-one.org
SUMMARY:
DESCRIPTION:
URL:https://school-one.org/calendars/4651/
CATEGORIES:Prospective Families
END:VEVENT
BEGIN:VEVENT
DTSTART;TZID=America/New_York:20240222T084500
DTEND;TZID=America/New_York:20240222T104500
DTSTAMP:20260424T143814
CREATED:20240201T210944Z
LAST-MODIFIED:20240201T211213Z
UID:4650-1708591500-1708598700@school-one.org
SUMMARY:Admissions Winter Open House
DESCRIPTION:
URL:https://school-one.org/calendars/admissions-winter-open-house/
CATEGORIES:Prospective Families
END:VEVENT
BEGIN:VEVENT
DTSTART;VALUE=DATE:20240224
DTEND;VALUE=DATE:20240225
DTSTAMP:20260424T143814
CREATED:20230825T160848Z
LAST-MODIFIED:20230825T162109Z
UID:4527-1708732800-1708819199@school-one.org
SUMMARY:Admissions Decisions Sent to Families
DESCRIPTION:
URL:https://school-one.org/calendars/admissions-decisions-sent-to-families/
CATEGORIES:Prospective Families
END:VEVENT
BEGIN:VEVENT
DTSTART;VALUE=DATE:20240305
DTEND;VALUE=DATE:20240306
DTSTAMP:20260424T143814
CREATED:20230705T180609Z
LAST-MODIFIED:20230705T180609Z
UID:4453-1709596800-1709683199@school-one.org
SUMMARY:Trimester 2 classes end
DESCRIPTION:
URL:https://school-one.org/calendars/trimester-2-classes-end/
CATEGORIES:Enrolled Families,Prospective Families
END:VEVENT
BEGIN:VEVENT
DTSTART;VALUE=DATE:20240306
DTEND;VALUE=DATE:20240307
DTSTAMP:20260424T143814
CREATED:20230705T181410Z
LAST-MODIFIED:20230705T181410Z
UID:4454-1709683200-1709769599@school-one.org
SUMMARY:No School
DESCRIPTION:
URL:https://school-one.org/calendars/no-school-5/
CATEGORIES:Enrolled Families
END:VEVENT
BEGIN:VEVENT
DTSTART;VALUE=DATE:20240307
DTEND;VALUE=DATE:20240309
DTSTAMP:20260424T143814
CREATED:20230705T181546Z
LAST-MODIFIED:20230705T181546Z
UID:4455-1709769600-1709942399@school-one.org
SUMMARY:Evaluation and Registration Days: By appointment
DESCRIPTION:
URL:https://school-one.org/calendars/evaluation-and-registration-days-by-appointment-2/
CATEGORIES:Enrolled Families
END:VEVENT
BEGIN:VEVENT
DTSTART;VALUE=DATE:20240311
DTEND;VALUE=DATE:20240312
DTSTAMP:20260424T143814
CREATED:20230825T162408Z
LAST-MODIFIED:20230825T162408Z
UID:4528-1710115200-1710201599@school-one.org
SUMMARY:Enrollment Deadline for Accepted Students
DESCRIPTION:
URL:https://school-one.org/calendars/enrollment-deadline-for-accepted-students/
CATEGORIES:Prospective Families
END:VEVENT
BEGIN:VEVENT
DTSTART;VALUE=DATE:20240311
DTEND;VALUE=DATE:20240316
DTSTAMP:20260424T143814
CREATED:20230705T181659Z
LAST-MODIFIED:20230705T181713Z
UID:4456-1710115200-1710547199@school-one.org
SUMMARY:March Vacation – No School
DESCRIPTION:
URL:https://school-one.org/calendars/march-vacation-no-school-2/
CATEGORIES:Enrolled Families,Prospective Families,Public Events
END:VEVENT
BEGIN:VEVENT
DTSTART;VALUE=DATE:20240318
DTEND;VALUE=DATE:20240319
DTSTAMP:20260424T143814
CREATED:20230705T181805Z
LAST-MODIFIED:20230705T181805Z
UID:4457-1710720000-1710806399@school-one.org
SUMMARY:Trimester 3 begins
DESCRIPTION:
URL:https://school-one.org/calendars/trimester-3-begins-6/
CATEGORIES:Enrolled Families
END:VEVENT
BEGIN:VEVENT
DTSTART;TZID=America/New_York:20240318T090000
DTEND;TZID=America/New_York:20240318T090000
DTSTAMP:20260424T143814
CREATED:20230725T193306Z
LAST-MODIFIED:20230725T193306Z
UID:4507-1710752400-1710752400@school-one.org
SUMMARY:Deadline for senior community service forms
DESCRIPTION:
URL:https://school-one.org/calendars/deadline-for-senior-community-service-forms/
CATEGORIES:Enrolled Families
END:VEVENT
BEGIN:VEVENT
DTSTART;TZID=America/New_York:20240321T180000
DTEND;TZID=America/New_York:20240321T210000
DTSTAMP:20260424T143814
CREATED:20240214T183338Z
LAST-MODIFIED:20240214T183338Z
UID:4654-1711044000-1711054800@school-one.org
SUMMARY:Alumni Event
DESCRIPTION:
URL:https://school-one.org/calendars/alumni-event/
CATEGORIES:Single Event
END:VEVENT
BEGIN:VEVENT
DTSTART;TZID=America/New_York:20240322T153000
DTEND;TZID=America/New_York:20240322T153000
DTSTAMP:20260424T143814
CREATED:20230725T193342Z
LAST-MODIFIED:20230725T193342Z
UID:4508-1711121400-1711121400@school-one.org
SUMMARY:add drop ends
DESCRIPTION:
URL:https://school-one.org/calendars/add-drop-ends-3/
CATEGORIES:Enrolled Families
END:VEVENT
BEGIN:VEVENT
DTSTART;TZID=America/New_York:20240328T090000
DTEND;TZID=America/New_York:20240328T090000
DTSTAMP:20260424T143814
CREATED:20230725T193434Z
LAST-MODIFIED:20230725T193434Z
UID:4509-1711616400-1711616400@school-one.org
SUMMARY:final deadline by contract for senior essays
DESCRIPTION:
URL:https://school-one.org/calendars/final-deadline-by-contract-for-senior-essays/
CATEGORIES:Enrolled Families
END:VEVENT
BEGIN:VEVENT
DTSTART;TZID=America/New_York:20240404T090000
DTEND;TZID=America/New_York:20240404T090000
DTSTAMP:20260424T143814
CREATED:20230725T193518Z
LAST-MODIFIED:20230725T193518Z
UID:4510-1712221200-1712221200@school-one.org
SUMMARY:first draft of senior essay for juniors due
DESCRIPTION:
URL:https://school-one.org/calendars/first-draft-of-senior-essay-for-juniors-due/
CATEGORIES:Enrolled Families
END:VEVENT
BEGIN:VEVENT
DTSTART;TZID=America/New_York:20240405T133000
DTEND;TZID=America/New_York:20240405T150000
DTSTAMP:20260424T143814
CREATED:20230725T193652Z
LAST-MODIFIED:20230725T193652Z
UID:4511-1712323800-1712329200@school-one.org
SUMMARY:Final Comp taking
DESCRIPTION:
URL:https://school-one.org/calendars/final-comp-taking/
CATEGORIES:Enrolled Families
END:VEVENT
BEGIN:VEVENT
DTSTART;VALUE=DATE:20240415
DTEND;VALUE=DATE:20240420
DTSTAMP:20260424T143814
CREATED:20230705T182256Z
LAST-MODIFIED:20230705T182256Z
UID:4458-1713139200-1713571199@school-one.org
SUMMARY:April Vacation – No School
DESCRIPTION:
URL:https://school-one.org/calendars/april-vacation-no-school/
CATEGORIES:Enrolled Families,Prospective Families
END:VEVENT
BEGIN:VEVENT
DTSTART;TZID=America/New_York:20240502T160000
DTEND;TZID=America/New_York:20240502T183000
DTSTAMP:20260424T143814
CREATED:20230705T182405Z
LAST-MODIFIED:20230705T182405Z
UID:4459-1714665600-1714674600@school-one.org
SUMMARY:Parent/Advisor Meetings
DESCRIPTION:
URL:https://school-one.org/calendars/parent-advisor-meetings/
CATEGORIES:Enrolled Families
END:VEVENT
BEGIN:VEVENT
DTSTART;TZID=America/New_York:20240510T105000
DTEND;TZID=America/New_York:20240510T113000
DTSTAMP:20260424T143814
CREATED:20230725T194037Z
LAST-MODIFIED:20230725T194037Z
UID:4512-1715338200-1715340600@school-one.org
SUMMARY:Junior Meeting
DESCRIPTION:
URL:https://school-one.org/calendars/junior-meeting-7/
CATEGORIES:Enrolled Families
END:VEVENT
BEGIN:VEVENT
DTSTART;TZID=America/New_York:20240514T110000
DTEND;TZID=America/New_York:20240514T114500
DTSTAMP:20260424T143814
CREATED:20230801T165353Z
LAST-MODIFIED:20230801T165353Z
UID:4514-1715684400-1715687100@school-one.org
SUMMARY:Sophomore Meeting
DESCRIPTION:
URL:https://school-one.org/calendars/sophomore-meeting-3/
CATEGORIES:Enrolled Families
END:VEVENT
BEGIN:VEVENT
DTSTART;TZID=America/New_York:20240515T090000
DTEND;TZID=America/New_York:20240515T090000
DTSTAMP:20260424T143814
CREATED:20230801T165455Z
LAST-MODIFIED:20230801T165455Z
UID:4515-1715763600-1715763600@school-one.org
SUMMARY:Deadline for transcripts for seniors for out of school classes
DESCRIPTION:
URL:https://school-one.org/calendars/deadline-for-transcripts-for-seniors-for-out-of-school-classes/
CATEGORIES:Enrolled Families
END:VEVENT
BEGIN:VEVENT
DTSTART;VALUE=DATE:20240527
DTEND;VALUE=DATE:20240528
DTSTAMP:20260424T143814
CREATED:20230705T182605Z
LAST-MODIFIED:20230705T182605Z
UID:4460-1716768000-1716854399@school-one.org
SUMMARY:Memorial Day – No School
DESCRIPTION:
URL:https://school-one.org/calendars/memorial-day-no-school-5/
CATEGORIES:Enrolled Families,Prospective Families,Public Events
END:VEVENT
BEGIN:VEVENT
DTSTART;VALUE=DATE:20240606
DTEND;VALUE=DATE:20240607
DTSTAMP:20260424T143814
CREATED:20230705T182730Z
LAST-MODIFIED:20230705T182730Z
UID:4461-1717632000-1717718399@school-one.org
SUMMARY:Trimester 3 classes end
DESCRIPTION:
URL:https://school-one.org/calendars/trimester-3-classes-end-4/
CATEGORIES:Enrolled Families
END:VEVENT
BEGIN:VEVENT
DTSTART;VALUE=DATE:20240610
DTEND;VALUE=DATE:20240612
DTSTAMP:20260424T143814
CREATED:20230705T182858Z
LAST-MODIFIED:20230705T182858Z
UID:4462-1717977600-1718150399@school-one.org
SUMMARY:Evaluation Days – By appointment
DESCRIPTION:
URL:https://school-one.org/calendars/evaluation-days-by-appointment/
CATEGORIES:Enrolled Families
END:VEVENT
BEGIN:VEVENT
DTSTART;VALUE=DATE:20240613
DTEND;VALUE=DATE:20240614
DTSTAMP:20260424T143814
CREATED:20230705T183012Z
LAST-MODIFIED:20230705T183012Z
UID:4463-1718236800-1718323199@school-one.org
SUMMARY:Senior Brunch
DESCRIPTION:
URL:https://school-one.org/calendars/senior-brunch-6/
CATEGORIES:Enrolled Families
END:VEVENT
BEGIN:VEVENT
DTSTART;VALUE=DATE:20240614
DTEND;VALUE=DATE:20240615
DTSTAMP:20260424T143814
CREATED:20230705T183109Z
LAST-MODIFIED:20230705T183109Z
UID:4464-1718323200-1718409599@school-one.org
SUMMARY:Graduation: 6:00 p.m.
DESCRIPTION:
URL:https://school-one.org/calendars/graduation-600-p-m/
CATEGORIES:Enrolled Families
END:VEVENT
BEGIN:VEVENT
DTSTART;TZID=America/New_York:20240822T173000
DTEND;TZID=America/New_York:20240822T183000
DTSTAMP:20260424T143814
CREATED:20240702T173232Z
LAST-MODIFIED:20240821T133650Z
UID:4696-1724347800-1724351400@school-one.org
SUMMARY:New Parent Orientation
DESCRIPTION:
URL:https://school-one.org/calendars/new-parent-orientation-3/
CATEGORIES:Enrolled Families
END:VEVENT
BEGIN:VEVENT
DTSTART;TZID=America/New_York:20240825T100000
DTEND;TZID=America/New_York:20240825T150000
DTSTAMP:20260424T143814
CREATED:20240702T181700Z
LAST-MODIFIED:20240702T181728Z
UID:4732-1724580000-1724598000@school-one.org
SUMMARY:2024 Back-to-School Family Picnic: Goddard Park
DESCRIPTION:
URL:https://school-one.org/calendars/2024-back-to-school-family-picnic/
CATEGORIES:Enrolled Families
END:VEVENT
END:VCALENDAR