BEGIN:VCALENDAR
VERSION:2.0
PRODID:-//School One - ECPv6.15.20//NONSGML v1.0//EN
CALSCALE:GREGORIAN
METHOD:PUBLISH
X-ORIGINAL-URL:https://school-one.org
X-WR-CALDESC:Events for School One
REFRESH-INTERVAL;VALUE=DURATION:PT1H
X-Robots-Tag:noindex
X-PUBLISHED-TTL:PT1H
BEGIN:VTIMEZONE
TZID:America/New_York
BEGIN:DAYLIGHT
TZOFFSETFROM:-0500
TZOFFSETTO:-0400
TZNAME:EDT
DTSTART:20250309T070000
END:DAYLIGHT
BEGIN:STANDARD
TZOFFSETFROM:-0400
TZOFFSETTO:-0500
TZNAME:EST
DTSTART:20251102T060000
END:STANDARD
BEGIN:DAYLIGHT
TZOFFSETFROM:-0500
TZOFFSETTO:-0400
TZNAME:EDT
DTSTART:20260308T070000
END:DAYLIGHT
BEGIN:STANDARD
TZOFFSETFROM:-0400
TZOFFSETTO:-0500
TZNAME:EST
DTSTART:20261101T060000
END:STANDARD
BEGIN:DAYLIGHT
TZOFFSETFROM:-0500
TZOFFSETTO:-0400
TZNAME:EDT
DTSTART:20270314T070000
END:DAYLIGHT
BEGIN:STANDARD
TZOFFSETFROM:-0400
TZOFFSETTO:-0500
TZNAME:EST
DTSTART:20271107T060000
END:STANDARD
END:VTIMEZONE
BEGIN:VEVENT
DTSTART;VALUE=DATE:20260525
DTEND;VALUE=DATE:20260526
DTSTAMP:20260421T124856
CREATED:20250702T180659Z
LAST-MODIFIED:20250702T180659Z
UID:5027-1779667200-1779753599@school-one.org
SUMMARY:Memorial Day – No school
DESCRIPTION:
URL:https://school-one.org/calendars/memorial-day-no-school-7/
CATEGORIES:Enrolled Families,Prospective Families,Public Events
END:VEVENT
BEGIN:VEVENT
DTSTART;TZID=America/New_York:20260604T000000
DTEND;TZID=America/New_York:20260604T150000
DTSTAMP:20260421T124856
CREATED:20250702T180744Z
LAST-MODIFIED:20250702T180744Z
UID:5028-1780531200-1780585200@school-one.org
SUMMARY:Trimester 3 classes end
DESCRIPTION:
URL:https://school-one.org/calendars/trimester-3-classes-end-6/
CATEGORIES:Enrolled Families
END:VEVENT
BEGIN:VEVENT
DTSTART;TZID=America/New_York:20260608T090000
DTEND;TZID=America/New_York:20260609T150000
DTSTAMP:20260421T124856
CREATED:20250702T180817Z
LAST-MODIFIED:20250702T180817Z
UID:5029-1780909200-1781017200@school-one.org
SUMMARY:Evaluation Days: By appointment
DESCRIPTION:
URL:https://school-one.org/calendars/evaluation-days-by-appointment-3/
CATEGORIES:Enrolled Families
END:VEVENT
BEGIN:VEVENT
DTSTART;TZID=America/New_York:20260611T113000
DTEND;TZID=America/New_York:20260611T130000
DTSTAMP:20260421T124856
CREATED:20250702T180903Z
LAST-MODIFIED:20250702T180903Z
UID:5030-1781177400-1781182800@school-one.org
SUMMARY:Senior Brunch
DESCRIPTION:
URL:https://school-one.org/calendars/senior-brunch-8/
CATEGORIES:Enrolled Families
END:VEVENT
BEGIN:VEVENT
DTSTART;TZID=America/New_York:20260612T180000
DTEND;TZID=America/New_York:20260612T200000
DTSTAMP:20260421T124857
CREATED:20250702T180955Z
LAST-MODIFIED:20250702T180955Z
UID:5031-1781287200-1781294400@school-one.org
SUMMARY:Graduation
DESCRIPTION:
URL:https://school-one.org/calendars/graduation-6/
CATEGORIES:Enrolled Families,Prospective Families
END:VEVENT
BEGIN:VEVENT
DTSTART;TZID=America/New_York:20260820T173000
DTEND;TZID=America/New_York:20260820T183000
DTSTAMP:20260421T124857
CREATED:20260309T154833Z
LAST-MODIFIED:20260309T154833Z
UID:5246-1787247000-1787250600@school-one.org
SUMMARY:New Parent Orientation
DESCRIPTION:
URL:https://school-one.org/calendars/new-parent-orientation-4/
CATEGORIES:Enrolled Families,Prospective Families
END:VEVENT
BEGIN:VEVENT
DTSTART;TZID=America/New_York:20260824T090000
DTEND;TZID=America/New_York:20260824T140000
DTSTAMP:20260421T124857
CREATED:20260420T184644Z
LAST-MODIFIED:20260420T184644Z
UID:5262-1787562000-1787580000@school-one.org
SUMMARY:New Student Orientation
DESCRIPTION:
URL:https://school-one.org/calendars/new-student-orientation-7/
CATEGORIES:Prospective Families
END:VEVENT
BEGIN:VEVENT
DTSTART;TZID=America/New_York:20260824T090000
DTEND;TZID=America/New_York:20260824T150000
DTSTAMP:20260421T124857
CREATED:20260309T154917Z
LAST-MODIFIED:20260309T154917Z
UID:5247-1787562000-1787583600@school-one.org
SUMMARY:New Student Orientation
DESCRIPTION:
URL:https://school-one.org/calendars/new-student-orientation-6/
CATEGORIES:Enrolled Families,Prospective Families
END:VEVENT
BEGIN:VEVENT
DTSTART;TZID=America/New_York:20260825T090000
DTEND;TZID=America/New_York:20260825T150000
DTSTAMP:20260421T124857
CREATED:20260309T155218Z
LAST-MODIFIED:20260309T155218Z
UID:5250-1787648400-1787670000@school-one.org
SUMMARY:All Student Orientation and Senior Meeting
DESCRIPTION:
URL:https://school-one.org/calendars/all-student-orientation-and-senior-meeting/
CATEGORIES:Enrolled Families,Prospective Families
END:VEVENT
BEGIN:VEVENT
DTSTART;TZID=America/New_York:20260825T090000
DTEND;TZID=America/New_York:20260825T150000
DTSTAMP:20260421T124857
CREATED:20260420T184734Z
LAST-MODIFIED:20260420T184742Z
UID:5264-1787648400-1787670000@school-one.org
SUMMARY:All Student Orientation (9-2) Senior mtg (2-3)
DESCRIPTION:
URL:https://school-one.org/calendars/all-student-orientation-9-2-senior-mtg-2-3/
CATEGORIES:Enrolled Families
END:VEVENT
BEGIN:VEVENT
DTSTART;TZID=America/New_York:20260826T080000
DTEND;TZID=America/New_York:20260828T170000
DTSTAMP:20260421T124857
CREATED:20260309T155308Z
LAST-MODIFIED:20260309T155308Z
UID:5251-1787731200-1787936400@school-one.org
SUMMARY:Registration
DESCRIPTION:
URL:https://school-one.org/calendars/registration-2/
CATEGORIES:Enrolled Families,Prospective Families
END:VEVENT
BEGIN:VEVENT
DTSTART;TZID=America/New_York:20260826T090000
DTEND;TZID=America/New_York:20260828T150000
DTSTAMP:20260421T124857
CREATED:20260420T184849Z
LAST-MODIFIED:20260420T184849Z
UID:5266-1787734800-1787929200@school-one.org
SUMMARY:Registration (by appointment)
DESCRIPTION:
URL:https://school-one.org/calendars/registration-by-appointment/
CATEGORIES:Enrolled Families,Prospective Families
END:VEVENT
BEGIN:VEVENT
DTSTART;TZID=America/New_York:20260831T090000
DTEND;TZID=America/New_York:20260831T150000
DTSTAMP:20260421T124857
CREATED:20260309T155412Z
LAST-MODIFIED:20260309T155412Z
UID:5252-1788166800-1788188400@school-one.org
SUMMARY:1st Day of Classes
DESCRIPTION:
URL:https://school-one.org/calendars/1st-day-of-classes/
CATEGORIES:Enrolled Families,Prospective Families
END:VEVENT
BEGIN:VEVENT
DTSTART;TZID=America/New_York:20260831T090000
DTEND;TZID=America/New_York:20260831T150000
DTSTAMP:20260421T124857
CREATED:20260420T184925Z
LAST-MODIFIED:20260420T184925Z
UID:5268-1788166800-1788188400@school-one.org
SUMMARY:1st Day of Classes
DESCRIPTION:
URL:https://school-one.org/calendars/1st-day-of-classes-2/
CATEGORIES:Enrolled Families,Prospective Families
END:VEVENT
END:VCALENDAR